Workbook
Name CHOICE: #REF!
Name CUSTOMER_TYPE: #REF!
Name DECISION_MAKER: #REF!
Name INTEREST: #REF!
Name OPPORTUNITY: #REF!
Name oUTCOME: #REF!
Name tblExistingLighting: Table7[]

Sheet Project setup
A1: LIGHTING ROI CALCULATOR
A2: Project Information
A3: Project Name
A4: Customer Name
A5: Assesment Date
A8: OPERATING CONDITIONS
A9: Hours per Day | B9: 10
A10: Days per Week | B10: 5
A11: Weeks per Year | B11: 52
A12: Annual operating hours | B12: =B9*B10*B11 -> 2600
A14: FINANCIAL ASSUMPTIONS
A15: Electricity Rate ($/kWh) | B15: 0.14
A16: Annual maintenance savings | B16: 0
A17: Annual demand savings
A18: Annual Electricity Ratye Increase (%) | B18: 0.03

Sheet Existing lighting
A3: Area/Location | B3: Fixture Type | C3: Fixture Quantity | D3: Lamps per Fixture | E3: Lamp Wattage (W) | F3: Ballast Factor | G3: Ballast Wattage(W) | H3: Total Fixture Watts | I3: Total Connected Load (W) | J3: Annual Energy (kWh) | K3: Annual Energy Cost ($)
A4: Main office | B4: 2-lamp T8 | C4: 24 | D4: 4 | E4: 32 | F4: 0.88 | G4: 8 | H4: =(D4*E4*F4)+G4 -> 120.64 | I4: =C4*H4 -> 2895.36 | J4: =I4*'Project setup'!$B$12/1000 -> 7527.936 | K4: =Table7[[#This Row],[Annual Energy (kWh)]]*'Project setup'!$B$15 -> 1053.911

Sheet Proposed lighting
A3: Area / Location | B3: Proposed LED Fixture | C3: Fixture Quantity | D3: LED Wattage (W) | E3: Total Connected Load (W) | F3: Annual Energy (kWh) | G3: Annual Energy Cost ($) | H3: Fixture Unit Cost ($) | I3: Total Fixture Cost ($)
A4: main office | B4: led flat panel | C4: 24 | D4: 30 | E4: =C4*D4 -> 720 | F4: =E4*'Project setup'!$B$12/1000 -> 1872 | G4: =Table8[[#This Row],[Annual Energy (kWh)]]*'Project setup'!$B$15 -> 262.08 | H4: 2500 | I4: =C4*H4 -> 60000

Sheet ROI Summary
A3: ENERGY COMPARISON | D3: Year | E3: annual savings | F3: cumulative savings | G3: net savings
A4: Existing Connected Loads (W) | B4: =SUM(Table7[[#This Row],[Total Connected Load (W)]]) -> 2895.36 | D4: 0 | E4: 0 | F4: 0 | G4: =F4-($B$24) -> -61000
A5: Proposed Connected Loads (W) | B5: =SUM(Table8[Total Connected Load (W)]) -> 720 | D5: 1 | E5: =$B$14*(1+'Project setup'!$B$18)^('ROI Summary'!D5-1)+'ROI Summary'!$B$15+'ROI Summary'!$B$16 -> 791.83104 | F5: =F4+E5 -> 791.83104 | G5: =F5-($B$24) -> -60208.169
A6: Connected Load Reduction (W) | B6: =B4-B5 -> 2175.36 | D6: =D5+1 -> 2 | E6: =$B$14*(1+'Project setup'!$B$18)^('ROI Summary'!D6-1)+'ROI Summary'!$B$15+'ROI Summary'!$B$16 -> 815.58597 | F6: =F5+E6 -> 1607.417 | G6: =F6-($B$24) -> -59392.583
A7: Existing Annual Energy (kWh) | B7: =SUM(Table7[Annual Energy (kWh)]) -> 7527.936 | D7: =D6+1 -> 3 | E7: =$B$14*(1+'Project setup'!$B$18)^('ROI Summary'!D7-1)+'ROI Summary'!$B$15+'ROI Summary'!$B$16 -> 840.05355 | F7: =F6+E7 -> 2447.4706 | G7: =F7-($B$24) -> -58552.529
A8: Proposed Annual Energy (kWh) | B8: =SUM(Table8[Annual Energy (kWh)]) -> 1872 | D8: =D7+1 -> 4 | E8: =$B$14*(1+'Project setup'!$B$18)^('ROI Summary'!D8-1)+'ROI Summary'!$B$15+'ROI Summary'!$B$16 -> 865.25516 | F8: =F7+E8 -> 3312.7257 | G8: =F8-($B$24) -> -57687.274
A9: Annual Energy Savings (kWh) | B9: =B7-B8 -> 5655.936 | D9: =D8+1 -> 5 | E9: =$B$14*(1+'Project setup'!$B$18)^('ROI Summary'!D9-1)+'ROI Summary'!$B$15+'ROI Summary'!$B$16 -> 891.21281 | F9: =F8+E9 -> 4203.9385 | G9: =F9-($B$24) -> -56796.061
D10: =D9+1 -> 6 | E10: =$B$14*(1+'Project setup'!$B$18)^('ROI Summary'!D10-1)+'ROI Summary'!$B$15+'ROI Summary'!$B$16 -> 917.9492 | F10: =F9+E10 -> 5121.8877 | G10: =F10-($B$24) -> -55878.112
A11: FINANCIAL COMPARISON | D11: =D10+1 -> 7 | E11: =$B$14*(1+'Project setup'!$B$18)^('ROI Summary'!D11-1)+'ROI Summary'!$B$15+'ROI Summary'!$B$16 -> 945.48767 | F11: =F10+E11 -> 6067.3754 | G11: =F11-($B$24) -> -54932.625
A12: Existing Annual Energy Cost ($) | B12: =SUM(Table7[Annual Energy Cost ($)]) -> 1053.911 | D12: =D11+1 -> 8 | E12: =$B$14*(1+'Project setup'!$B$18)^('ROI Summary'!D12-1)+'ROI Summary'!$B$15+'ROI Summary'!$B$16 -> 973.8523 | F12: =F11+E12 -> 7041.2277 | G12: =F12-($B$24) -> -53958.772
A13: Proposed Annual Energy Cost ($) | B13: =SUM(Table8[Annual Energy Cost ($)]) -> 262.08 | D13: =D12+1 -> 9 | E13: =$B$14*(1+'Project setup'!$B$18)^('ROI Summary'!D13-1)+'ROI Summary'!$B$15+'ROI Summary'!$B$16 -> 1003.0679 | F13: =F12+E13 -> 8044.2956 | G13: =F13-($B$24) -> -52955.704
A14: Annual Energy Cost Savings ($) | B14: =B12-B13 -> 791.83104 | D14: =D13+1 -> 10 | E14: =$B$14*(1+'Project setup'!$B$18)^('ROI Summary'!D14-1)+'ROI Summary'!$B$15+'ROI Summary'!$B$16 -> 1033.1599 | F14: =F13+E14 -> 9077.4555 | G14: =F14-($B$24) -> -51922.545
A15: Annual Maintenance Savings ($) | B15: ='Project setup'!B16 -> 0
A16: Annual Demand Savings ($) | B16: ='Project setup'!B17 -> 0
A17: Total Annual Savings ($) | B17: =SUM(B14:B16) -> 791.83104
A19: PROJECT INVESTMENT
A20: LED Fixture Purchase Cost ($) | B20: =SUM(Table8[Total Fixture Cost ($)]) -> 60000
A21: Installation Labour ($) | B21: 1200
A22: Additional Materials ($) | B22: 300
A23: Rebates / Incentives ($) | B23: 500
A24: Net Project Investment ($) | B24: =SUM(B20:B22)-B23 -> 61000
A26: RETURN ON INVESTMENT
A27: Simple Payback (Years) | B27: =IF(B17<=0,"N/A",IF(B24<=0,0,B24/B17)) -> 77.036637
A28: Annual ROI (%) | B28: =IF(B24<=0,"N/A",B17/B24) -> 0.012980837
A30: LONG-TERM FINANCIAL OUTLOOK
A31: 5 Year Net Savings | B31: =G9 -> -56796.061
A32: !0 Year Net Savings | B32: =G14 -> -51922.545
A34: BREAK-EVEN ANALYSIS
A35: Break-even Year | B35: {=IF($B$24<=0,0,IFERROR(INDEX($D$5:$D$14,MATCH(TRUE,INDEX($G$5:$G$14>=0,0),0)),"Beyond 10 Years"))} -> Beyond 10 Years
A36: Investment Recovery Status | B36: =IF(B24<=0,"No Net Investment",IF(B35="Beyond 10 Years","Not Recovered Within 10 Years","Investment Recovered")) -> Not Recovered Within 10 Years
